BEGIN:VCALENDAR
VERSION:2.0
PRODID:-//CERN//INDICO//EN
BEGIN:VEVENT
SUMMARY:Status of cERL Cryomodule with Beam
DTSTART;VALUE=DATE-TIME:20191202T070000Z
DTEND;VALUE=DATE-TIME:20191202T073000Z
DTSTAMP;VALUE=DATE-TIME:20210605T214242Z
UID:indico-event-12@conference-indico.kek.jp
DESCRIPTION:https://conference-indico.kek.jp/event/100/sessions/23/
LOCATION:KEK San-go-kan 7th floor meeting room
URL:https://conference-indico.kek.jp/event/100/sessions/23/
END:VEVENT
END:VCALENDAR
