BEGIN:VCALENDAR
VERSION:2.0
PRODID:-//CERN//INDICO//EN
BEGIN:VEVENT
SUMMARY:KEK Lab. Tour → cERL
DTSTART;VALUE=DATE-TIME:20191203T013000Z
DTEND;VALUE=DATE-TIME:20191203T020000Z
DTSTAMP;VALUE=DATE-TIME:20210605T214640Z
UID:indico-event-15@conference-indico.kek.jp
DESCRIPTION:https://conference-indico.kek.jp/event/100/sessions/3/
LOCATION:KEK San-go-kan 7th floor meeting room
URL:https://conference-indico.kek.jp/event/100/sessions/3/
END:VEVENT
END:VCALENDAR
