BEGIN:VCALENDAR
VERSION:2.0
PRODID:-//CERN//INDICO//EN
BEGIN:VEVENT
SUMMARY:KEK Lab. Tour → CFF
DTSTART;VALUE=DATE-TIME:20191203T010000Z
DTEND;VALUE=DATE-TIME:20191203T013000Z
DTSTAMP;VALUE=DATE-TIME:20210605T214528Z
UID:indico-event-14@conference-indico.kek.jp
DESCRIPTION:https://conference-indico.kek.jp/event/100/sessions/4/
LOCATION:KEK San-go-kan 7th floor meeting room
URL:https://conference-indico.kek.jp/event/100/sessions/4/
END:VEVENT
END:VCALENDAR
