BEGIN:VCALENDAR
VERSION:2.0
PRODID:-//CERN//INDICO//EN
BEGIN:VEVENT
SUMMARY:US-Japan Hawaii Symposium of the US-Japan Science and Technology C
 ooperation Program
DTSTART;VALUE=DATE-TIME:20210421T230000Z
DTEND;VALUE=DATE-TIME:20210424T030000Z
DTSTAMP;VALUE=DATE-TIME:20210425T075021Z
UID:indico-event-119@conference-indico.kek.jp
DESCRIPTION:[Important Information on COVID-19]\n\nDue to the global COVID
 -19 pandemic\, the 1st Hawaii Mini-Symposium of the US-Japan Science and T
 echnology Cooperation Program in High Energy Physics will be held virtuall
 y on April 21-23\, Hawaii time.\n\n[Registration]\n\nThe deadline has bee
 n extended to April 9(Fri)\, 2021.\n\nRegistration is free. Connection in
 formation will be sent to participants before the event. Please register 
 through the registration page.\n\n[Announcement]\n\nWe have sent the invit
 ation including the Zoom link to the registered participants.\nIf you have
  not received the information\, please let us know.\n\nkoryu1@mail.kek.jp\
 n\nIt is our pleasure to announce that the 1st Hawaii Mini-Symposium of th
 e US-Japan Science and Technology Cooperation Program in High Energy Physi
 cs will be held virtually on April 21-23\, 2021. This symposium is co-host
 ed by KEK and University of Hawaii and sponsored by DOE.\n\n \n\nThe US-J
 apan Science and Technology Cooperation Program in High Energy Physics was
  started in 1979 under the Agreement between the Government of Japan and t
 he Government of the United States of America on Cooperation in Research a
 nd Development in Science and Technology\, aiming to promote joint researc
 h and development in High Energy Physics. \n\n \n\nIn 2019\, it celebrate
 d its 40th anniversary and a symposium was held in Hawaii\, which gave us 
 an idea to launch this mini-Hawaii-symposium series to encourage the colla
 boration further and foster young scientists.\n\n \n\nThe annual meeting 
 of the US-Japan Joint Committee will be held following the Mini-Symposium.
 \n\n \n\nThe Local Organizing Committee.\n\n \n\n[Sponsors]\n\nUNIVERSIT
 Y of HAWAI'I\, DOE\, KEK\n\n \n\nhttps://conference-indico.kek.jp/event
 /119/
LOCATION:
URL:https://conference-indico.kek.jp/event/119/
END:VEVENT
END:VCALENDAR
