BEGIN:VCALENDAR
VERSION:2.0
PRODID:-//CERN//INDICO//EN
BEGIN:VEVENT
SUMMARY:Neutrons and food 6
DTSTART;VALUE=DATE-TIME:20210608T070000Z
DTEND;VALUE=DATE-TIME:20210611T090000Z
DTSTAMP;VALUE=DATE-TIME:20210425T075451Z
UID:indico-event-122@conference-indico.kek.jp
DESCRIPTION:https://conference-indico.kek.jp/event/122/
LOCATION:
URL:https://conference-indico.kek.jp/event/122/
END:VEVENT
END:VCALENDAR
