BEGIN:VCALENDAR
VERSION:2.0
PRODID:-//CERN//INDICO//EN
BEGIN:VEVENT
SUMMARY:23rd meeting on physics at B factories
DTSTART;VALUE=DATE-TIME:20201222T043000Z
DTEND;VALUE=DATE-TIME:20201222T080000Z
DTSTAMP;VALUE=DATE-TIME:20210615T092737Z
UID:indico-event-127@conference-indico.kek.jp
DESCRIPTION:!!! IMPORTANT !!!\n\nWe have sent the Zoom link to the registe
 red participants on December 15th. Please let us know if you have not rece
 ived the link\, while you already registered. The contact info can be foun
 d in the registration page.\n\n \n\n(English version follows.)\n\nSuperKE
 KB/Belle IIでは、2030年代初頭までにKEKB/Belleの50倍の積分
 ルミノシティーを蓄積し、B中間子・D中間子・タウ粒子
 の精密測定・禁止過程探索により、標準模型を超える
 物理を探ることを主目的としています。また、高輝度
 電子陽電子衝突実験の特徴を生かした、ダークセクタ
 ーやアクシオンのような粒子（ALP）などの新粒子の直
 接探索も目標としています。\n\nSuperKEKB 加速器は2020年6
 月15日に世界最高ルミノシティに到達し、さらに自己の
 記録を2020年6月15日に 2.40×10^34/cm^2/s と塗り替えました
 。Belle II 実験は順調にデータを収集し、74/fb をテープ
 に記録し、現在解析が進行中です。2020年10月19日にSuperK
 EKB 加速器の運転を再開し、Belle II 実験はデータ収集を
 開始しました。\n\nこの勉強会は理論、実験合同でＢフ
 ァクトリーで展開すべき物理についてじっくり議論す
 る場としたいと思います。今回は次の方々に招待講演
 をお願いしています。\n\n進藤 哲央 氏（工学院大）   
           "CP asymmetries of B to X_{s\,d} gamma in models with three
  Higgs doublets"\nThomas Czank（Kavli IPMU）     "Dark sector in Bel
 le II: Achievements and Prospects"\n吉原 圭亮 氏（Iowa State/KEK） 
 "Status of Belle II/SuperKEKB operation"\n\n講演や議論は英語で行
 います。外国人研究者のご参加も歓迎致します。\n今回
 はZoomによるオンライン開催となります。12/14(月)までに
 左メニューの"Registration"からから参加登録をお願い致し
 ます。登録締切後に、emailにてZoom接続の情報をお送り
 致します。\n\nこの勉強会に関するご意見・ご要望があ
 りましたら世話人までお知らせ下さい。\n多くの方々の
 ご参加をお待ちしております。\n\n世話人\n理論： 遠藤
 基、大野木哲也、岡田安弘、金児隆志、清裕一郎、後
 藤亨、      田中実、谷本盛光、野尻美保子、久野純
 治、三島智、両角卓也\n実験： 石川明正、後田裕、西
 田昌平、早坂圭司、樋口岳雄\n\n\n\nThe main purpose of SuperKE
 KB/Belle II is to search for new physics beyond the Standard Model through
  B\, D and tau decays by accumulating 50 times more data than KEKB/Belle b
 y the early 2030's. It also aims to directly search for dark-sector and ax
 ion-like particles by taking advantage of high luminosity e+e- collider ex
 periments.\n\nSuperKEKB had achieved world's highest luminosity on 15th Ju
 ne 2020\, and\nfurther broke the record as 2.40×10^34/cm^2/s on 15th June
  2020. Belle II smoothly performed data taking\, had recorded 74/fb data t
 o tape\, and physics analyses are now on-going. On 19th October 2020\, Sup
 erKEKB resumed the operation and Belle II start data taking.\n\nThis serie
 s of meetings aims to provide opportunities\, where theorists and experime
 ntalists get together and closely discuss physics at B factories. In this 
 23rd meeting\, we will have the following invited talks:\n\nTetsuo Shindou
  (Kogakuin)                 "CP asymmetries of B to X_{s\,
 d} gamma in models with three Higgs doublets"\nThomas Czank (Kavli IPMU) 
                "Dark sector in Belle II: Achievements and Pr
 ospects"\nKeisuke Yoshihara (Iowa State/KEK)  "Status of Belle II/SuperKE
 KB operation"\n\nThe working language is English\, and non-Japanese partic
 ipants are very welcome! The meeting will be oneline by Zoom. Please regis
 ter from "Registration" in the left menu by December 14 (Mon). The Zoom  
 connection information will be sent to the participants by email after the
  deadline.\n\nOrganizers:\nTh:  M. Endo\, T. Goto\, J. Hisano\, T. Kaneko
 \, Y. Kiyo\, S. Mishima\,  T. Morozumi\, M. Nojiri\, Y. Okada\, T. Onogi\
 , M. Tanaka\, M. Tanimoto\nExp: K. Hayasaka\, T. Higuchi\, A. Ishikawa\, S
 . Nishida\, Y. Ushiroda\,\n\nhttps://conference-indico.kek.jp/event/127/
LOCATION:online meeting by Zoom
URL:https://conference-indico.kek.jp/event/127/
END:VEVENT
END:VCALENDAR
