BEGIN:VCALENDAR
VERSION:2.0
PRODID:-//CERN//INDICO//EN
BEGIN:VEVENT
SUMMARY:第35回　研究会「放射線検出器とその応用」
DTSTART;VALUE=DATE-TIME:20210120T060000Z
DTEND;VALUE=DATE-TIME:20210122T080000Z
DTSTAMP;VALUE=DATE-TIME:20210615T091922Z
UID:indico-event-133@conference-indico.kek.jp
DESCRIPTION:https://conference-indico.kek.jp/event/133/
LOCATION:
URL:https://conference-indico.kek.jp/event/133/
END:VEVENT
END:VCALENDAR
