BEGIN:VCALENDAR
VERSION:2.0
PRODID:-//CERN//INDICO//EN
BEGIN:VEVENT
SUMMARY:Opening remarks
DTSTART;VALUE=DATE-TIME:20210316T042000Z
DTEND;VALUE=DATE-TIME:20210316T043000Z
DTSTAMP;VALUE=DATE-TIME:20211021T183647Z
UID:indico-event-1063@conference-indico.kek.jp
DESCRIPTION:https://conference-indico.kek.jp/event/137/sessions/821/
LOCATION: Online (Zoom)
URL:https://conference-indico.kek.jp/event/137/sessions/821/
END:VEVENT
END:VCALENDAR
