BEGIN:VCALENDAR
VERSION:2.0
PRODID:-//CERN//INDICO//EN
BEGIN:VEVENT
SUMMARY:2021 Joint Workshop of TYL/FJPPL and FKPPL
DTSTART;VALUE=DATE-TIME:20210510T070000Z
DTEND;VALUE=DATE-TIME:20210512T100000Z
DTSTAMP;VALUE=DATE-TIME:20210425T075344Z
UID:indico-event-139@conference-indico.kek.jp
DESCRIPTION:We are pleased to invite you to the 9th Joint Workshop of the
  France-Japan (TYL/FJPPL) \n\nand France-Korea (FKPPL) International assoc
 iated Particle Physics Laboratories.\n\nIn light of the global influences 
 of COVID-19\, we are going to hold the workshop online \n\nand it will sta
 rt at 9:00 CEST / 16:00 in Japan and Korea on 10 -12 May.\n\nhttps://co
 nference-indico.kek.jp/event/139/
LOCATION:
URL:https://conference-indico.kek.jp/event/139/
END:VEVENT
END:VCALENDAR
