BEGIN:VCALENDAR
VERSION:2.0
PRODID:-//CERN//INDICO//EN
BEGIN:VEVENT
SUMMARY:KEK-PH Lectures and Workshops 2021
DTSTART;VALUE=DATE-TIME:20210501T030000Z
DTEND;VALUE=DATE-TIME:20220331T050000Z
DTSTAMP;VALUE=DATE-TIME:20210425T075223Z
UID:indico-event-141@conference-indico.kek.jp
DESCRIPTION:"KEK-PH lectures and workshops" is a form of KEK-PH workshop s
 eries at the time of Covid-19. \n\nThe annual KEK Theory Meeting on Partic
 le Physics Phenomenology (KEK-PH) covers many topics in Particle Physics a
 nd Cosmology\, from the Standard Model and models beyond it to particle co
 smology and astrophysics. At the time of Covid-19\, the KEK theory center 
 is organizing an on-line lecture and workshop series\, "KEK-PH lectures an
 d workshops 2021."\n\n\n1st KEK-PH on "Muon g-2"\n\nProgram\n\nhttps://con
 ference-indico.kek.jp/event/141/timetable/#day-2021-05-11\n\nInvited talks
 \n\nMay 11 17:00-18:30: Dr. Massimo Passera  (INFN\, Padua)\, "Muon g-2 an
 d Δα connection"\n\nMay 19 17:00-18:30:  Prof. Christoph Lehner (Regensb
 urg U. and Brookhaven Natl. Lab.)\, "Consistency of the hadronic vacuum po
 larization between lattice QCD and the R-ratio"\n\nThe registration deadli
 ne is May 9.\nA Zoom link will be sent to the registered participants.\n\n
 \n\nOrganizers: Motoi Endo\, Amon Furuichi\, Toru Goto\, Yu Hamada\, Ryuic
 hiro Kitano\, Kazunori Kohri\, Ryutaro Matsudo\, Satoshi Mishima\, Kyohei 
 Mukaida\, Mihoko M. Nojiri\, Hajime Otsuka\, Yutaka Sakamura\, Kengo Shima
 da\, Hiromasa Takaura\n\n\n\n\n\nhttps://conference-indico.kek.jp/event/14
 1/
LOCATION:
URL:https://conference-indico.kek.jp/event/141/
END:VEVENT
END:VCALENDAR
