BEGIN:VCALENDAR
VERSION:2.0
PRODID:-//CERN//INDICO//EN
BEGIN:VEVENT
SUMMARY:Design of the LBNF Target Station\, Decay Pipe and Absorber
DTSTART;VALUE=DATE-TIME:20170919T053000Z
DTEND;VALUE=DATE-TIME:20170919T061500Z
DTSTAMP;VALUE=DATE-TIME:20210522T222047Z
UID:indico-contribution-101-25@conference-indico.kek.jp
DESCRIPTION:Speakers: Tariq\, Salman (Fermilab)\nhttps://conference-indico
 .kek.jp/event/16/contributions/276/
LOCATION:IVIL: industry & information plaza\, Tokai-mura 1F Multi-purpose 
 Hall
URL:https://conference-indico.kek.jp/event/16/contributions/276/
END:VEVENT
BEGIN:VEVENT
SUMMARY:BDF Facility Design Challenges
DTSTART;VALUE=DATE-TIME:20170919T061500Z
DTEND;VALUE=DATE-TIME:20170919T064500Z
DTSTAMP;VALUE=DATE-TIME:20210522T222047Z
UID:indico-contribution-101-26@conference-indico.kek.jp
DESCRIPTION:Speakers: Calviani\, Marco (CERN)\nhttps://conference-indico.k
 ek.jp/event/16/contributions/277/
LOCATION:IVIL: industry & information plaza\, Tokai-mura 1F Multi-purpose 
 Hall
URL:https://conference-indico.kek.jp/event/16/contributions/277/
END:VEVENT
BEGIN:VEVENT
SUMMARY:Helium vessel cooling and ventilation system conceptual design
DTSTART;VALUE=DATE-TIME:20170919T064500Z
DTEND;VALUE=DATE-TIME:20170919T070500Z
DTSTAMP;VALUE=DATE-TIME:20210522T222047Z
UID:indico-contribution-101-27@conference-indico.kek.jp
DESCRIPTION:Speakers: Avigni\, Pietro (CERN)\nhttps://conference-indico.ke
 k.jp/event/16/contributions/278/
LOCATION:IVIL: industry & information plaza\, Tokai-mura 1F Multi-purpose 
 Hall
URL:https://conference-indico.kek.jp/event/16/contributions/278/
END:VEVENT
END:VCALENDAR
