BEGIN:VCALENDAR
VERSION:2.0
PRODID:-//CERN//INDICO//EN
BEGIN:VEVENT
SUMMARY:Hadron Production Measurement at CERN-NA61 (VC)
DTSTART;VALUE=DATE-TIME:20170919T011500Z
DTEND;VALUE=DATE-TIME:20170919T013500Z
DTSTAMP;VALUE=DATE-TIME:20210522T221557Z
UID:indico-contribution-99-18@conference-indico.kek.jp
DESCRIPTION:Speakers: Nagai\, Yoshikazu (U. Colodaro Boulder)\nhttps://con
 ference-indico.kek.jp/event/16/contributions/301/
LOCATION:IVIL: industry & information plaza\, Tokai-mura 1F Multi-purpose 
 Hall
URL:https://conference-indico.kek.jp/event/16/contributions/301/
END:VEVENT
BEGIN:VEVENT
SUMMARY:T2K Neutrino Flux Prediction
DTSTART;VALUE=DATE-TIME:20170919T001500Z
DTEND;VALUE=DATE-TIME:20170919T003500Z
DTSTAMP;VALUE=DATE-TIME:20210522T221557Z
UID:indico-contribution-99-15@conference-indico.kek.jp
DESCRIPTION:Speakers: Vladisavljevic\, Tomislav (Kavli IPM)\nhttps://confe
 rence-indico.kek.jp/event/16/contributions/311/
LOCATION:IVIL: industry & information plaza\, Tokai-mura 1F Multi-purpose 
 Hall
URL:https://conference-indico.kek.jp/event/16/contributions/311/
END:VEVENT
BEGIN:VEVENT
SUMMARY:LBNF Neutrino Flux Prediction
DTSTART;VALUE=DATE-TIME:20170919T005500Z
DTEND;VALUE=DATE-TIME:20170919T011500Z
DTSTAMP;VALUE=DATE-TIME:20210522T221557Z
UID:indico-contribution-99-17@conference-indico.kek.jp
DESCRIPTION:Speakers: Bishai\, Mary (BNL)\nhttps://conference-indico.kek.j
 p/event/16/contributions/319/
LOCATION:IVIL: industry & information plaza\, Tokai-mura 1F Multi-purpose 
 Hall
URL:https://conference-indico.kek.jp/event/16/contributions/319/
END:VEVENT
BEGIN:VEVENT
SUMMARY:NuMI Neutrino Flux Prediction (VC)
DTSTART;VALUE=DATE-TIME:20170919T003500Z
DTEND;VALUE=DATE-TIME:20170919T005500Z
DTSTAMP;VALUE=DATE-TIME:20210522T221557Z
UID:indico-contribution-99-16@conference-indico.kek.jp
DESCRIPTION:Speakers: Soplin\, Leonidas Aliaga (Fermilab)\nhttps://confere
 nce-indico.kek.jp/event/16/contributions/320/
LOCATION:IVIL: industry & information plaza\, Tokai-mura 1F Multi-purpose 
 Hall
URL:https://conference-indico.kek.jp/event/16/contributions/320/
END:VEVENT
BEGIN:VEVENT
SUMMARY:Very low energy beamlines at CERN North area
DTSTART;VALUE=DATE-TIME:20170919T013500Z
DTEND;VALUE=DATE-TIME:20170919T015500Z
DTSTAMP;VALUE=DATE-TIME:20210522T221557Z
UID:indico-contribution-99-19@conference-indico.kek.jp
DESCRIPTION:Speakers: Charitonidis\, Nikolaos (CERN)\nhttps://conference-i
 ndico.kek.jp/event/16/contributions/321/
LOCATION:IVIL: industry & information plaza\, Tokai-mura 1F Multi-purpose 
 Hall
URL:https://conference-indico.kek.jp/event/16/contributions/321/
END:VEVENT
END:VCALENDAR
