BEGIN:VCALENDAR
VERSION:2.0
PRODID:-//CERN//INDICO//EN
BEGIN:VEVENT
SUMMARY:NuMI/LBNF Radiation Protection
DTSTART;VALUE=DATE-TIME:20170920T004000Z
DTEND;VALUE=DATE-TIME:20170920T010500Z
DTSTAMP;VALUE=DATE-TIME:20210523T065140Z
UID:indico-contribution-105-32@conference-indico.kek.jp
DESCRIPTION:Speakers: Hylen\, James (Fermilab)\nhttps://conference-indico.
 kek.jp/event/16/contributions/322/
LOCATION:IVIL: industry & information plaza\, Tokai-mura 1F Multi-purpose 
 Hall
URL:https://conference-indico.kek.jp/event/16/contributions/322/
END:VEVENT
BEGIN:VEVENT
SUMMARY:Radiation & Environmental Isssues for BDF
DTSTART;VALUE=DATE-TIME:20170920T010500Z
DTEND;VALUE=DATE-TIME:20170920T013000Z
DTSTAMP;VALUE=DATE-TIME:20210523T065140Z
UID:indico-contribution-105-34@conference-indico.kek.jp
DESCRIPTION:Speakers: Casolino\, Mirkoantonio (CERN)\nhttps://conference-i
 ndico.kek.jp/event/16/contributions/328/
LOCATION:IVIL: industry & information plaza\, Tokai-mura 1F Multi-purpose 
 Hall
URL:https://conference-indico.kek.jp/event/16/contributions/328/
END:VEVENT
BEGIN:VEVENT
SUMMARY:Hadron Monitor R&D for LBNF*
DTSTART;VALUE=DATE-TIME:20170920T001500Z
DTEND;VALUE=DATE-TIME:20170920T004000Z
DTSTAMP;VALUE=DATE-TIME:20210523T065140Z
UID:indico-contribution-105-33@conference-indico.kek.jp
DESCRIPTION:Speakers: Sun\, Jilei (IHEP)\n* Originally scheduled at 18th b
 eam monitor session\n\nhttps://conference-indico.kek.jp/event/16/contribut
 ions/329/
LOCATION:IVIL: industry & information plaza\, Tokai-mura 1F Multi-purpose 
 Hall
URL:https://conference-indico.kek.jp/event/16/contributions/329/
END:VEVENT
END:VCALENDAR
