BEGIN:VCALENDAR
VERSION:2.0
PRODID:-//CERN//INDICO//EN
BEGIN:VEVENT
SUMMARY:Keynote Lecture: NuMI 700kW Operation
DTSTART;VALUE=DATE-TIME:20170919T092000Z
DTEND;VALUE=DATE-TIME:20170919T102000Z
DTSTAMP;VALUE=DATE-TIME:20210523T065001Z
UID:indico-contribution-103-31@conference-indico.kek.jp
DESCRIPTION:Speakers: Hylen\, James (Fermilab)\nhttps://conference-indico.
 kek.jp/event/16/contributions/323/
LOCATION:IVIL: industry & information plaza\, Tokai-mura 1F Multi-purpose 
 Hall
URL:https://conference-indico.kek.jp/event/16/contributions/323/
END:VEVENT
END:VCALENDAR
