BEGIN:VCALENDAR
VERSION:2.0
PRODID:-//CERN//INDICO//EN
BEGIN:VEVENT
SUMMARY:BDF target design and prototyping
DTSTART;VALUE=DATE-TIME:20170920T030000Z
DTEND;VALUE=DATE-TIME:20170920T032500Z
DTSTAMP;VALUE=DATE-TIME:20210523T065316Z
UID:indico-contribution-106-38@conference-indico.kek.jp
DESCRIPTION:Speakers: Lopez Sola\, Edmundo (CERN)\nhttps://conference-indi
 co.kek.jp/event/16/contributions/306/
LOCATION:IVIL: industry & information plaza\, Tokai-mura 1F Multi-purpose 
 Hall
URL:https://conference-indico.kek.jp/event/16/contributions/306/
END:VEVENT
BEGIN:VEVENT
SUMMARY:J-PARC Nu target & window
DTSTART;VALUE=DATE-TIME:20170920T021000Z
DTEND;VALUE=DATE-TIME:20170920T023500Z
DTSTAMP;VALUE=DATE-TIME:20210523T065316Z
UID:indico-contribution-106-36@conference-indico.kek.jp
DESCRIPTION:Speakers: Nakadaira\, Takeshi (J-PARC/KEK)\nhttps://conference
 -indico.kek.jp/event/16/contributions/326/
LOCATION:IVIL: industry & information plaza\, Tokai-mura 1F Multi-purpose 
 Hall
URL:https://conference-indico.kek.jp/event/16/contributions/326/
END:VEVENT
BEGIN:VEVENT
SUMMARY:NuMI-NOVA target & window
DTSTART;VALUE=DATE-TIME:20170920T014500Z
DTEND;VALUE=DATE-TIME:20170920T021000Z
DTSTAMP;VALUE=DATE-TIME:20210523T065316Z
UID:indico-contribution-106-35@conference-indico.kek.jp
DESCRIPTION:Speakers: Ammigan\, Kavin (Fermilab)\nhttps://conference-indic
 o.kek.jp/event/16/contributions/327/
LOCATION:IVIL: industry & information plaza\, Tokai-mura 1F Multi-purpose 
 Hall
URL:https://conference-indico.kek.jp/event/16/contributions/327/
END:VEVENT
BEGIN:VEVENT
SUMMARY:LBNF target
DTSTART;VALUE=DATE-TIME:20170920T023500Z
DTEND;VALUE=DATE-TIME:20170920T030000Z
DTSTAMP;VALUE=DATE-TIME:20210523T065316Z
UID:indico-contribution-106-37@conference-indico.kek.jp
DESCRIPTION:Speakers: Densham\, Chris (STFC)\nhttps://conference-indico.ke
 k.jp/event/16/contributions/332/
LOCATION:IVIL: industry & information plaza\, Tokai-mura 1F Multi-purpose 
 Hall
URL:https://conference-indico.kek.jp/event/16/contributions/332/
END:VEVENT
END:VCALENDAR
