BEGIN:VCALENDAR
VERSION:2.0
PRODID:-//CERN//INDICO//EN
BEGIN:VEVENT
SUMMARY:Registration: for NBI participants
DTSTART;VALUE=DATE-TIME:20170918T000000Z
DTEND;VALUE=DATE-TIME:20170918T011500Z
DTSTAMP;VALUE=DATE-TIME:20210522T220520Z
UID:indico-event-93@conference-indico.kek.jp
DESCRIPTION:https://conference-indico.kek.jp/event/16/sessions/94/
LOCATION:IVIL: industry & information plaza\, Tokai-mura 1F R101
URL:https://conference-indico.kek.jp/event/16/sessions/94/
END:VEVENT
BEGIN:VEVENT
SUMMARY:Registration: for RaDIATE participants
DTSTART;VALUE=DATE-TIME:20170920T000000Z
DTEND;VALUE=DATE-TIME:20170920T013000Z
DTSTAMP;VALUE=DATE-TIME:20210522T220520Z
UID:indico-event-104@conference-indico.kek.jp
DESCRIPTION:https://conference-indico.kek.jp/event/16/sessions/94/
LOCATION:IVIL: industry & information plaza\, Tokai-mura 1F R101
URL:https://conference-indico.kek.jp/event/16/sessions/94/
END:VEVENT
END:VCALENDAR
