BEGIN:VCALENDAR
VERSION:2.0
PRODID:-//CERN//INDICO//EN
BEGIN:VEVENT
SUMMARY:J-PARC Accelerators
DTSTART;VALUE=DATE-TIME:20170918T020000Z
DTEND;VALUE=DATE-TIME:20170918T023000Z
DTSTAMP;VALUE=DATE-TIME:20210522T220925Z
UID:indico-contribution-95-3@conference-indico.kek.jp
DESCRIPTION:Speakers: Igarashi\, Susumu (J-PARC/KEK)\nhttps://conference-i
 ndico.kek.jp/event/16/contributions/293/
LOCATION:IVIL: industry & information plaza\, Tokai-mura 1F Multi-purpose 
 Hall
URL:https://conference-indico.kek.jp/event/16/contributions/293/
END:VEVENT
BEGIN:VEVENT
SUMMARY:J-PARC Neutrino Facility - T2K\, T2K2 & Hyper-K
DTSTART;VALUE=DATE-TIME:20170918T023000Z
DTEND;VALUE=DATE-TIME:20170918T030000Z
DTSTAMP;VALUE=DATE-TIME:20210522T220925Z
UID:indico-contribution-95-4@conference-indico.kek.jp
DESCRIPTION:Speakers: Fujii\, Yoshiaki (J-PARC/KEK)\nhttps://conference-in
 dico.kek.jp/event/16/contributions/296/
LOCATION:IVIL: industry & information plaza\, Tokai-mura 1F Multi-purpose 
 Hall
URL:https://conference-indico.kek.jp/event/16/contributions/296/
END:VEVENT
BEGIN:VEVENT
SUMMARY:Overview of the LBNF/DUNE Beamline
DTSTART;VALUE=DATE-TIME:20170918T041500Z
DTEND;VALUE=DATE-TIME:20170918T044500Z
DTSTAMP;VALUE=DATE-TIME:20210522T220925Z
UID:indico-contribution-96-5@conference-indico.kek.jp
DESCRIPTION:Speakers: Papadimitriou\, Vaia (Fermilab)\nhttps://conference-
 indico.kek.jp/event/16/contributions/295/
LOCATION:IVIL: industry & information plaza\, Tokai-mura 1F Multi-purpose 
 Hall
URL:https://conference-indico.kek.jp/event/16/contributions/295/
END:VEVENT
BEGIN:VEVENT
SUMMARY:CERN SPS facilities/Beam Dump Facility - SHiP
DTSTART;VALUE=DATE-TIME:20170918T051500Z
DTEND;VALUE=DATE-TIME:20170918T054500Z
DTSTAMP;VALUE=DATE-TIME:20210522T220925Z
UID:indico-contribution-96-7@conference-indico.kek.jp
DESCRIPTION:Speakers: Calviani\, Marco (CERN)\nhttps://conference-indico.k
 ek.jp/event/16/contributions/297/
LOCATION:IVIL: industry & information plaza\, Tokai-mura 1F Multi-purpose 
 Hall
URL:https://conference-indico.kek.jp/event/16/contributions/297/
END:VEVENT
BEGIN:VEVENT
SUMMARY:J-PARC Neutrino Facility Upgrade
DTSTART;VALUE=DATE-TIME:20170918T044500Z
DTEND;VALUE=DATE-TIME:20170918T051500Z
DTSTAMP;VALUE=DATE-TIME:20210522T220925Z
UID:indico-contribution-96-6@conference-indico.kek.jp
DESCRIPTION:Speakers: Sekiguchi\, Tetruro (J-PARC/KEK)\nhttps://conference
 -indico.kek.jp/event/16/contributions/298/
LOCATION:IVIL: industry & information plaza\, Tokai-mura 1F Multi-purpose 
 Hall
URL:https://conference-indico.kek.jp/event/16/contributions/298/
END:VEVENT
END:VCALENDAR
