BEGIN:VCALENDAR
VERSION:2.0
PRODID:-//CERN//INDICO//EN
BEGIN:VEVENT
SUMMARY:Welcome to J-PARC
DTSTART;VALUE=DATE-TIME:20170918T012500Z
DTEND;VALUE=DATE-TIME:20170918T014500Z
DTSTAMP;VALUE=DATE-TIME:20210522T220709Z
UID:indico-contribution-94-1@conference-indico.kek.jp
DESCRIPTION:Speakers: Koseki\, Tadashi (J-PARC)\nhttps://conference-indico
 .kek.jp/event/16/contributions/291/
LOCATION:IVIL: industry & information plaza\, Tokai-mura 1F Multi-purpose 
 Hall
URL:https://conference-indico.kek.jp/event/16/contributions/291/
END:VEVENT
BEGIN:VEVENT
SUMMARY:Opening Remark
DTSTART;VALUE=DATE-TIME:20170918T011500Z
DTEND;VALUE=DATE-TIME:20170918T012500Z
DTSTAMP;VALUE=DATE-TIME:20210522T220709Z
UID:indico-contribution-94-0@conference-indico.kek.jp
DESCRIPTION:Speakers: Ishida\, Taku (J-PARC/KEK)\nhttps://conference-indic
 o.kek.jp/event/16/contributions/292/
LOCATION:IVIL: industry & information plaza\, Tokai-mura 1F Multi-purpose 
 Hall
URL:https://conference-indico.kek.jp/event/16/contributions/292/
END:VEVENT
BEGIN:VEVENT
SUMMARY:Welcome and Targetry Overview
DTSTART;VALUE=DATE-TIME:20170921T001500Z
DTEND;VALUE=DATE-TIME:20170921T004500Z
DTSTAMP;VALUE=DATE-TIME:20210522T220709Z
UID:indico-contribution-108-39@conference-indico.kek.jp
DESCRIPTION:Speakers: Futakawa\, Masatoshi (J-PARC)\nhttps://conference-in
 dico.kek.jp/event/16/contributions/315/
LOCATION:IVIL: industry & information plaza\, Tokai-mura 1F Multi-purpose 
 Hall
URL:https://conference-indico.kek.jp/event/16/contributions/315/
END:VEVENT
BEGIN:VEVENT
SUMMARY:RaDIATE 4th Annual Collaboration Meeting Objectives
DTSTART;VALUE=DATE-TIME:20170921T004500Z
DTEND;VALUE=DATE-TIME:20170921T005500Z
DTSTAMP;VALUE=DATE-TIME:20210522T220709Z
UID:indico-contribution-108-40@conference-indico.kek.jp
DESCRIPTION:Speakers: Hurh\, Patrick (Fermilab)\nhttps://conference-indico
 .kek.jp/event/16/contributions/289/
LOCATION:IVIL: industry & information plaza\, Tokai-mura 1F Multi-purpose 
 Hall
URL:https://conference-indico.kek.jp/event/16/contributions/289/
END:VEVENT
END:VCALENDAR
