BEGIN:VCALENDAR
VERSION:2.0
PRODID:-//CERN//INDICO//EN
BEGIN:VEVENT
SUMMARY:J-PARC beam interlock and experience on miss shots
DTSTART;VALUE=DATE-TIME:20170918T060500Z
DTEND;VALUE=DATE-TIME:20170918T062500Z
DTSTAMP;VALUE=DATE-TIME:20210522T221146Z
UID:indico-contribution-97-9@conference-indico.kek.jp
DESCRIPTION:Speakers: Sakashita\, Ken (J-PARC/KEK)\nhttps://conference-ind
 ico.kek.jp/event/16/contributions/299/
LOCATION:IVIL: industry & information plaza\, Tokai-mura 1F Multi-purpose 
 Hall
URL:https://conference-indico.kek.jp/event/16/contributions/299/
END:VEVENT
BEGIN:VEVENT
SUMMARY:NuMI  beam permit system and experience on rogue pulses
DTSTART;VALUE=DATE-TIME:20170918T054500Z
DTEND;VALUE=DATE-TIME:20170918T060500Z
DTSTAMP;VALUE=DATE-TIME:20210522T221146Z
UID:indico-contribution-97-8@conference-indico.kek.jp
DESCRIPTION:Speakers: Childress\, Sam (Fermilab)\nhttps://conference-indic
 o.kek.jp/event/16/contributions/300/
LOCATION:IVIL: industry & information plaza\, Tokai-mura 1F Multi-purpose 
 Hall
URL:https://conference-indico.kek.jp/event/16/contributions/300/
END:VEVENT
END:VCALENDAR
