BEGIN:VCALENDAR
VERSION:2.0
PRODID:-//CERN//INDICO//EN
BEGIN:VEVENT
SUMMARY:NuMI-NOVA/LBNF horn
DTSTART;VALUE=DATE-TIME:20170919T025500Z
DTEND;VALUE=DATE-TIME:20170919T032000Z
DTSTAMP;VALUE=DATE-TIME:20210522T221815Z
UID:indico-contribution-100-22@conference-indico.kek.jp
DESCRIPTION:Speakers: Crowley\, Cory (Fermilab)\, Hurh\, Patrick (Fermilab
 )\, Zwaska\, Robert (Fermilab)\nhttps://conference-indico.kek.jp/event/16/
 contributions/261/
LOCATION:IVIL: industry & information plaza\, Tokai-mura 1F Multi-purpose 
 Hall
URL:https://conference-indico.kek.jp/event/16/contributions/261/
END:VEVENT
BEGIN:VEVENT
SUMMARY:Antiproton production horn operation and testing
DTSTART;VALUE=DATE-TIME:20170919T035000Z
DTEND;VALUE=DATE-TIME:20170919T041500Z
DTSTAMP;VALUE=DATE-TIME:20210522T221815Z
UID:indico-contribution-100-24@conference-indico.kek.jp
DESCRIPTION:Speakers: Lopez Sola\, Edmundo (CERN)\nhttps://conference-indi
 co.kek.jp/event/16/contributions/275/
LOCATION:IVIL: industry & information plaza\, Tokai-mura 1F Multi-purpose 
 Hall
URL:https://conference-indico.kek.jp/event/16/contributions/275/
END:VEVENT
BEGIN:VEVENT
SUMMARY:T2K horn status & upgrade
DTSTART;VALUE=DATE-TIME:20170919T021000Z
DTEND;VALUE=DATE-TIME:20170919T023500Z
DTSTAMP;VALUE=DATE-TIME:20210522T221815Z
UID:indico-contribution-100-20@conference-indico.kek.jp
DESCRIPTION:Speakers: Sekiguchi\, Tetsuro (J-PARC/KEK)\nhttps://conference
 -indico.kek.jp/event/16/contributions/279/
LOCATION:IVIL: industry & information plaza\, Tokai-mura 1F Multi-purpose 
 Hall
URL:https://conference-indico.kek.jp/event/16/contributions/279/
END:VEVENT
BEGIN:VEVENT
SUMMARY:T2K horn production
DTSTART;VALUE=DATE-TIME:20170919T023500Z
DTEND;VALUE=DATE-TIME:20170919T025500Z
DTSTAMP;VALUE=DATE-TIME:20210522T221815Z
UID:indico-contribution-100-21@conference-indico.kek.jp
DESCRIPTION:Speakers: Zimmerman\, Eric (U. Colodaro Boulder)\nhttps://conf
 erence-indico.kek.jp/event/16/contributions/280/
LOCATION:IVIL: industry & information plaza\, Tokai-mura 1F Multi-purpose 
 Hall
URL:https://conference-indico.kek.jp/event/16/contributions/280/
END:VEVENT
BEGIN:VEVENT
SUMMARY:BNB/T2K horns for high current operation
DTSTART;VALUE=DATE-TIME:20170919T032000Z
DTEND;VALUE=DATE-TIME:20170919T035000Z
DTSTAMP;VALUE=DATE-TIME:20210522T221815Z
UID:indico-contribution-100-23@conference-indico.kek.jp
DESCRIPTION:Speakers: Bartoszek\, Larry (Bartoszek Eng.)\nhttps://conferen
 ce-indico.kek.jp/event/16/contributions/282/
LOCATION:IVIL: industry & information plaza\, Tokai-mura 1F Multi-purpose 
 Hall
URL:https://conference-indico.kek.jp/event/16/contributions/282/
END:VEVENT
END:VCALENDAR
