BEGIN:VCALENDAR
VERSION:2.0
PRODID:-//CERN//INDICO//EN
BEGIN:VEVENT
SUMMARY:J-PARC Nu OTR
DTSTART;VALUE=DATE-TIME:20170918T073000Z
DTEND;VALUE=DATE-TIME:20170918T075000Z
DTSTAMP;VALUE=DATE-TIME:20210522T221345Z
UID:indico-contribution-98-13@conference-indico.kek.jp
DESCRIPTION:Speakers: Yu\, Mitchell (York U.)\nhttps://conference-indico.k
 ek.jp/event/16/contributions/303/
LOCATION:IVIL: industry & information plaza\, Tokai-mura 1F Multi-purpose 
 Hall
URL:https://conference-indico.kek.jp/event/16/contributions/303/
END:VEVENT
BEGIN:VEVENT
SUMMARY:J-PARC Nu Muon Monitor
DTSTART;VALUE=DATE-TIME:20170918T075000Z
DTEND;VALUE=DATE-TIME:20170918T081000Z
DTSTAMP;VALUE=DATE-TIME:20210522T221345Z
UID:indico-contribution-98-14@conference-indico.kek.jp
DESCRIPTION:Speakers: Ashida\, Yosuke (Kyoto-U.)\nhttps://conference-indic
 o.kek.jp/event/16/contributions/312/
LOCATION:IVIL: industry & information plaza\, Tokai-mura 1F Multi-purpose 
 Hall
URL:https://conference-indico.kek.jp/event/16/contributions/312/
END:VEVENT
BEGIN:VEVENT
SUMMARY:FNAL Neutrino Beam Monitoring
DTSTART;VALUE=DATE-TIME:20170918T071000Z
DTEND;VALUE=DATE-TIME:20170918T073000Z
DTSTAMP;VALUE=DATE-TIME:20210522T221345Z
UID:indico-contribution-98-11@conference-indico.kek.jp
DESCRIPTION:Speakers: Hylen\, James ()\nhttps://conference-indico.kek.jp/e
 vent/16/contributions/313/
LOCATION:IVIL: industry & information plaza\, Tokai-mura 1F Multi-purpose 
 Hall
URL:https://conference-indico.kek.jp/event/16/contributions/313/
END:VEVENT
BEGIN:VEVENT
SUMMARY:J-PARC Nu Primary Beamline\, Monitors & Upgrade
DTSTART;VALUE=DATE-TIME:20170918T064000Z
DTEND;VALUE=DATE-TIME:20170918T071000Z
DTSTAMP;VALUE=DATE-TIME:20210522T221345Z
UID:indico-contribution-98-10@conference-indico.kek.jp
DESCRIPTION:Speakers: Friend\, Megan (J-PARC/KEK)\nhttps://conference-indi
 co.kek.jp/event/16/contributions/314/
LOCATION:IVIL: industry & information plaza\, Tokai-mura 1F Multi-purpose 
 Hall
URL:https://conference-indico.kek.jp/event/16/contributions/314/
END:VEVENT
BEGIN:VEVENT
SUMMARY:J-PARC Nu Radioactive Waste Treatment*
DTSTART;VALUE=DATE-TIME:20170918T081000Z
DTEND;VALUE=DATE-TIME:20170918T083000Z
DTSTAMP;VALUE=DATE-TIME:20210522T221345Z
UID:indico-contribution-98-12@conference-indico.kek.jp
DESCRIPTION:Speakers: Oyama\, Yuichi (J-PARC/KEK)\n* Originally scheduled 
 on 20th radiation safety session\n\nhttps://conference-indico.kek.jp/event
 /16/contributions/316/
LOCATION:IVIL: industry & information plaza\, Tokai-mura 1F Multi-purpose 
 Hall
URL:https://conference-indico.kek.jp/event/16/contributions/316/
END:VEVENT
END:VCALENDAR
