BEGIN:VCALENDAR
VERSION:2.0
PRODID:-//CERN//INDICO//EN
BEGIN:VEVENT
SUMMARY:Flavor Physics Workshop 2017
DTSTART;VALUE=DATE-TIME:20171030T040000Z
DTEND;VALUE=DATE-TIME:20171102T030000Z
DTSTAMP;VALUE=DATE-TIME:20210615T092322Z
UID:indico-event-36@conference-indico.kek.jp
DESCRIPTION:https://conference-indico.kek.jp/event/36/
LOCATION:
URL:https://conference-indico.kek.jp/event/36/
END:VEVENT
END:VCALENDAR
