BEGIN:VCALENDAR
VERSION:2.0
PRODID:-//CERN//INDICO//EN
BEGIN:VEVENT
SUMMARY:第19回 平成30年度高エネルギー加速器研究機構技
 術職員シンポジウム
DTSTART;VALUE=DATE-TIME:20190115T230000Z
DTEND;VALUE=DATE-TIME:20190117T090000Z
DTSTAMP;VALUE=DATE-TIME:20210424T171637Z
UID:indico-event-58@conference-indico.kek.jp
DESCRIPTION:テーマ　：　「技術職員の採用活動とその後
 の育成、働き方」\n\n \n\n開催日時：　平成31年1月16日
 （水）～17日（木）　（受付は1月16日　12時00分から）\n
 開催場所：　高エネルギー加速器研究機構（つくばキ
 ャンパス） 研究本館１階小林ホール\n　　　　　　　
 　　　　（〒305-0801 茨城県つくば市大穂１－１）\n\n参
 加費：　無料\nお茶代：　500円（当日、会場受付でお支
 払い下さい）\n\n発表申込締め切り：　平成30年11月16日(
 金)\n\n懇親会申込締め切り：　平成30年12月28日(金)\n懇
 親会費：　3\,500円 （当日、会場受付でお支払い下さい
 ）\n\n　　　　　　お問い合わせは下記へお願い致しま
 す。\n　　　　　　　　　　eng-sympo2018＠ml.post.kek.jp　　
 　(＠を半角にして下さい)\n \n\n技術職員シンポジウム
 実行委員会\n\n[ 開催案内 | 開催要領 | 参加申込 | 宿泊
 案内 | プログラム | アクセス | 構内マップ | 報告資料 ]
  \n\nhttps://conference-indico.kek.jp/event/58/
LOCATION:研究本館　小林ホール
URL:https://conference-indico.kek.jp/event/58/
END:VEVENT
END:VCALENDAR
