BEGIN:VCALENDAR
VERSION:2.0
PRODID:-//CERN//INDICO//EN
BEGIN:VEVENT
SUMMARY:Introduction
DTSTART;VALUE=DATE-TIME:20190927T043000Z
DTEND;VALUE=DATE-TIME:20190927T043500Z
DTSTAMP;VALUE=DATE-TIME:20210625T113832Z
UID:indico-contribution-699-10@conference-indico.kek.jp
DESCRIPTION:Speakers: Kobayashi\, Takashi (KEK)\nhttps://conference-indico
 .kek.jp/event/81/contributions/1609/
LOCATION:Kenkyu-Honkan Kobayashi-Hall
URL:https://conference-indico.kek.jp/event/81/contributions/1609/
END:VEVENT
BEGIN:VEVENT
SUMMARY:Kaon experiments
DTSTART;VALUE=DATE-TIME:20190927T044000Z
DTEND;VALUE=DATE-TIME:20190927T051000Z
DTSTAMP;VALUE=DATE-TIME:20210625T113832Z
UID:indico-contribution-699-1@conference-indico.kek.jp
DESCRIPTION:Speakers: Yamanaka\, Taku (Osaka)\nhttps://conference-indico.k
 ek.jp/event/81/contributions/1610/
LOCATION:Kenkyu-Honkan Kobayashi-Hall
URL:https://conference-indico.kek.jp/event/81/contributions/1610/
END:VEVENT
BEGIN:VEVENT
SUMMARY:Opening address
DTSTART;VALUE=DATE-TIME:20190927T043500Z
DTEND;VALUE=DATE-TIME:20190927T044000Z
DTSTAMP;VALUE=DATE-TIME:20210625T113832Z
UID:indico-contribution-699-0@conference-indico.kek.jp
DESCRIPTION:Speakers: Yamauchi\, Masanori (KEK)\nhttps://conference-indico
 .kek.jp/event/81/contributions/1611/
LOCATION:Kenkyu-Honkan Kobayashi-Hall
URL:https://conference-indico.kek.jp/event/81/contributions/1611/
END:VEVENT
BEGIN:VEVENT
SUMMARY:K2K experiment
DTSTART;VALUE=DATE-TIME:20190927T053000Z
DTEND;VALUE=DATE-TIME:20190927T055000Z
DTSTAMP;VALUE=DATE-TIME:20210625T113832Z
UID:indico-contribution-699-3@conference-indico.kek.jp
DESCRIPTION:Speakers: Jung\, Chang Kee (Stony Brook)\nhttps://conference-i
 ndico.kek.jp/event/81/contributions/1612/
LOCATION:Kenkyu-Honkan Kobayashi-Hall
URL:https://conference-indico.kek.jp/event/81/contributions/1612/
END:VEVENT
BEGIN:VEVENT
SUMMARY:Kamiokande/Super-Kamiokande
DTSTART;VALUE=DATE-TIME:20190927T051000Z
DTEND;VALUE=DATE-TIME:20190927T053000Z
DTSTAMP;VALUE=DATE-TIME:20210625T113832Z
UID:indico-contribution-699-2@conference-indico.kek.jp
DESCRIPTION:Speakers: Kajita\, Takaaki (U. Tokyo)\nhttps://conference-indi
 co.kek.jp/event/81/contributions/1613/
LOCATION:Kenkyu-Honkan Kobayashi-Hall
URL:https://conference-indico.kek.jp/event/81/contributions/1613/
END:VEVENT
BEGIN:VEVENT
SUMMARY:T2K experiment
DTSTART;VALUE=DATE-TIME:20190927T055000Z
DTEND;VALUE=DATE-TIME:20190927T061500Z
DTSTAMP;VALUE=DATE-TIME:20210625T113832Z
UID:indico-contribution-699-4@conference-indico.kek.jp
DESCRIPTION:Speakers: Ichikawa\, Atsuko (Kyoto)\nhttps://conference-indico
 .kek.jp/event/81/contributions/1615/
LOCATION:Kenkyu-Honkan Kobayashi-Hall
URL:https://conference-indico.kek.jp/event/81/contributions/1615/
END:VEVENT
END:VCALENDAR
