BEGIN:VCALENDAR
VERSION:2.0
PRODID:-//CERN//INDICO//EN
BEGIN:VEVENT
SUMMARY:Registration
DTSTART;VALUE=DATE-TIME:20190927T040000Z
DTEND;VALUE=DATE-TIME:20190927T043000Z
DTSTAMP;VALUE=DATE-TIME:20210625T113650Z
UID:indico-event-698@conference-indico.kek.jp
DESCRIPTION:https://conference-indico.kek.jp/event/81/sessions/571/
LOCATION:Kenkyu-Honkan Kobayashi-Hall
URL:https://conference-indico.kek.jp/event/81/sessions/571/
END:VEVENT
END:VCALENDAR
