BEGIN:VCALENDAR
VERSION:2.0
PRODID:-//CERN//INDICO//EN
BEGIN:VEVENT
SUMMARY:Neutron beam monitor for the high-intensity neutron total diffract
 ometer NOVA [invited]
DTSTART;VALUE=DATE-TIME:20190925T023000Z
DTEND;VALUE=DATE-TIME:20190925T025500Z
DTSTAMP;VALUE=DATE-TIME:20210728T060401Z
UID:indico-contribution-822-102@conference-indico.kek.jp
DESCRIPTION:Speakers: Ohshita\, Hidetoshi (KEK/J-PARC)\nhttps://conference
 -indico.kek.jp/event/91/contributions/1855/
LOCATION: Room 202
URL:https://conference-indico.kek.jp/event/91/contributions/1855/
END:VEVENT
BEGIN:VEVENT
SUMMARY:Time Projection Chamber "HypTPC" for the hadron spectroscopy at J-
 PARC [invited]
DTSTART;VALUE=DATE-TIME:20190925T025500Z
DTEND;VALUE=DATE-TIME:20190925T032000Z
DTSTAMP;VALUE=DATE-TIME:20210728T060401Z
UID:indico-contribution-822-103@conference-indico.kek.jp
DESCRIPTION:Speakers: Ichikawa\, Yudai (JAEA)\nhttps://conference-indico.k
 ek.jp/event/91/contributions/1856/
LOCATION: Room 202
URL:https://conference-indico.kek.jp/event/91/contributions/1856/
END:VEVENT
BEGIN:VEVENT
SUMMARY:The Accelerator Neutrino Neutron Interaction Experiment (ANNIE) [i
 nvited]
DTSTART;VALUE=DATE-TIME:20190925T014000Z
DTEND;VALUE=DATE-TIME:20190925T020500Z
DTSTAMP;VALUE=DATE-TIME:20210728T060401Z
UID:indico-contribution-822-100@conference-indico.kek.jp
DESCRIPTION:Speakers: Svoboda\, Robert (UC Davis)\nhttps://conference-indi
 co.kek.jp/event/91/contributions/1857/
LOCATION: Room 202
URL:https://conference-indico.kek.jp/event/91/contributions/1857/
END:VEVENT
BEGIN:VEVENT
SUMMARY:The upgrade of the KOTO Cesium Iodide calorimeter for the separati
 on of gamma and neutron [invited]
DTSTART;VALUE=DATE-TIME:20190925T020500Z
DTEND;VALUE=DATE-TIME:20190925T023000Z
DTSTAMP;VALUE=DATE-TIME:20210728T060401Z
UID:indico-contribution-822-101@conference-indico.kek.jp
DESCRIPTION:Speakers: Shimizu\, Nobuhiro (Osaka University)\nhttps://confe
 rence-indico.kek.jp/event/91/contributions/1858/
LOCATION: Room 202
URL:https://conference-indico.kek.jp/event/91/contributions/1858/
END:VEVENT
END:VCALENDAR
