BEGIN:VCALENDAR
VERSION:2.0
PRODID:-//CERN//INDICO//EN
BEGIN:VEVENT
SUMMARY:Poster Session
DTSTART;VALUE=DATE-TIME:20190925T084000Z
DTEND;VALUE=DATE-TIME:20190925T104000Z
DTSTAMP;VALUE=DATE-TIME:20210729T103426Z
UID:indico-event-836@conference-indico.kek.jp
DESCRIPTION:https://conference-indico.kek.jp/event/91/sessions/689/
LOCATION: 2F Concourse
URL:https://conference-indico.kek.jp/event/91/sessions/689/
END:VEVENT
END:VCALENDAR
