BEGIN:VCALENDAR
VERSION:2.0
PRODID:-//CERN//INDICO//EN
BEGIN:VEVENT
SUMMARY:Spin-hedgehog lattice states in cubic chiral magnets MnSi<sub>1-x<
 /sub>Ge<sub>x</sub> investigated by small- and wide-angle neutron scatteri
 ng and neutron spin echo spectroscopy (invited)
DTSTART;VALUE=DATE-TIME:20190925T014000Z
DTEND;VALUE=DATE-TIME:20190925T021000Z
DTSTAMP;VALUE=DATE-TIME:20210728T055823Z
UID:indico-contribution-820-8@conference-indico.kek.jp
DESCRIPTION:Speakers: Nakajima\, Taro (The University of Tokyo\, RIKEN)\nh
 ttps://conference-indico.kek.jp/event/91/contributions/1806/
LOCATION: Room 101
URL:https://conference-indico.kek.jp/event/91/contributions/1806/
END:VEVENT
BEGIN:VEVENT
SUMMARY:Magnetism in Kagome Antiferromagnet MgMn<sub>3</sub>(OH)<sub>6</su
 b>Cl<sub>2</sub>
DTSTART;VALUE=DATE-TIME:20190925T030000Z
DTEND;VALUE=DATE-TIME:20190925T032000Z
DTSTAMP;VALUE=DATE-TIME:20210728T055823Z
UID:indico-contribution-820-11@conference-indico.kek.jp
DESCRIPTION:Speakers: Bhuiyan\, Md. Mahbubur Rahman (Saga University)\nhtt
 ps://conference-indico.kek.jp/event/91/contributions/1909/
LOCATION: Room 101
URL:https://conference-indico.kek.jp/event/91/contributions/1909/
END:VEVENT
BEGIN:VEVENT
SUMMARY:Hybridized magnon with orbital and lattice in multiferroics Ba<sub
 >2</sub>MnGe<sub>2</sub>O<sub>7</sub>
DTSTART;VALUE=DATE-TIME:20190925T024000Z
DTEND;VALUE=DATE-TIME:20190925T030000Z
DTSTAMP;VALUE=DATE-TIME:20210728T055823Z
UID:indico-contribution-820-10@conference-indico.kek.jp
DESCRIPTION:Speakers: Masuda\, Takatsugu (The University of Tokyo)\nhttps:
 //conference-indico.kek.jp/event/91/contributions/1910/
LOCATION: Room 101
URL:https://conference-indico.kek.jp/event/91/contributions/1910/
END:VEVENT
BEGIN:VEVENT
SUMMARY:Fractionalized Spin Excitations in Spin-1/2 Triangular- and Kagome
 -Lattice Antiferromagnets (invited)
DTSTART;VALUE=DATE-TIME:20190925T021000Z
DTEND;VALUE=DATE-TIME:20190925T024000Z
DTSTAMP;VALUE=DATE-TIME:20210728T055823Z
UID:indico-contribution-820-9@conference-indico.kek.jp
DESCRIPTION:Speakers: Tanaka\, Hidekazu (Tokyo Institute of Technology)\nh
 ttps://conference-indico.kek.jp/event/91/contributions/1943/
LOCATION: Room 101
URL:https://conference-indico.kek.jp/event/91/contributions/1943/
END:VEVENT
END:VCALENDAR
