BEGIN:VCALENDAR
VERSION:2.0
PRODID:-//CERN//INDICO//EN
BEGIN:VEVENT
SUMMARY:A Plan of Materials Irradiation Facility at J-PARC for Development
  of ADS and High-power Accelerator Facilities
DTSTART;VALUE=DATE-TIME:20190925T054000Z
DTEND;VALUE=DATE-TIME:20190925T060000Z
DTSTAMP;VALUE=DATE-TIME:20210728T061035Z
UID:indico-contribution-825-21@conference-indico.kek.jp
DESCRIPTION:Speakers: Maekawa\, Fujio (J-PARC Center\, JAEA)\nhttps://conf
 erence-indico.kek.jp/event/91/contributions/1797/
LOCATION: Room 102
URL:https://conference-indico.kek.jp/event/91/contributions/1797/
END:VEVENT
BEGIN:VEVENT
SUMMARY:Status of LBE studies and experimental plan at JAEA
DTSTART;VALUE=DATE-TIME:20190925T060000Z
DTEND;VALUE=DATE-TIME:20190925T062000Z
DTSTAMP;VALUE=DATE-TIME:20210728T061035Z
UID:indico-contribution-825-23@conference-indico.kek.jp
DESCRIPTION:Speakers: Saito\, Shigeru (J-PARC Center\, JAEA)\nhttps://conf
 erence-indico.kek.jp/event/91/contributions/1799/
LOCATION: Room 102
URL:https://conference-indico.kek.jp/event/91/contributions/1799/
END:VEVENT
BEGIN:VEVENT
SUMMARY:Huizhou Nuclear Research Center in 2019 (invited)
DTSTART;VALUE=DATE-TIME:20190925T043000Z
DTEND;VALUE=DATE-TIME:20190925T050500Z
DTSTAMP;VALUE=DATE-TIME:20210728T061035Z
UID:indico-contribution-825-6@conference-indico.kek.jp
DESCRIPTION:Speakers: Zhan\, Wenlong (Institute of Modern Physics\, CAS)\n
 https://conference-indico.kek.jp/event/91/contributions/1895/
LOCATION: Room 102
URL:https://conference-indico.kek.jp/event/91/contributions/1895/
END:VEVENT
BEGIN:VEVENT
SUMMARY:Irradiation Experiments on 237Np and 241Am by Accelerator-Driven S
 ystem at Kyoto University Critical Assembly (invited)
DTSTART;VALUE=DATE-TIME:20190925T050500Z
DTEND;VALUE=DATE-TIME:20190925T054000Z
DTSTAMP;VALUE=DATE-TIME:20210728T061035Z
UID:indico-contribution-825-12@conference-indico.kek.jp
DESCRIPTION:Speakers: Pyeon\, Cheol Ho (Kyoto Univ.)\nhttps://conference-i
 ndico.kek.jp/event/91/contributions/1912/
LOCATION: Room 102
URL:https://conference-indico.kek.jp/event/91/contributions/1912/
END:VEVENT
END:VCALENDAR
