BEGIN:VCALENDAR
VERSION:2.0
PRODID:-//CERN//INDICO//EN
BEGIN:VEVENT
SUMMARY:Topological magnetic excitations and magnetic anisotropy in ferrom
 agnetic CrI<sub>3</sub> (invited)
DTSTART;VALUE=DATE-TIME:20190925T043000Z
DTEND;VALUE=DATE-TIME:20190925T045500Z
DTSTAMP;VALUE=DATE-TIME:20210728T061432Z
UID:indico-contribution-826-24@conference-indico.kek.jp
DESCRIPTION:Speakers: Dai\, Pencheng (Rice University)\nhttps://conference
 -indico.kek.jp/event/91/contributions/1792/
LOCATION: Convention Hall 200
URL:https://conference-indico.kek.jp/event/91/contributions/1792/
END:VEVENT
BEGIN:VEVENT
SUMMARY:Black is the new green – making carbon battery anodes from biowa
 ste (invited)
DTSTART;VALUE=DATE-TIME:20190925T045500Z
DTEND;VALUE=DATE-TIME:20190925T052000Z
DTSTAMP;VALUE=DATE-TIME:20210728T061432Z
UID:indico-contribution-826-25@conference-indico.kek.jp
DESCRIPTION:Speakers: Drew\, Alan (Queen Mary University of London)\nhttps
 ://conference-indico.kek.jp/event/91/contributions/1793/
LOCATION: Convention Hall 200
URL:https://conference-indico.kek.jp/event/91/contributions/1793/
END:VEVENT
BEGIN:VEVENT
SUMMARY:Insights into caloric materials: a neutron scattering study (invit
 ed)
DTSTART;VALUE=DATE-TIME:20190925T052000Z
DTEND;VALUE=DATE-TIME:20190925T054500Z
DTSTAMP;VALUE=DATE-TIME:20210728T061432Z
UID:indico-contribution-826-26@conference-indico.kek.jp
DESCRIPTION:Speakers: Li\, Bing (Chinese Academy of Sciences)\nhttps://con
 ference-indico.kek.jp/event/91/contributions/1794/
LOCATION: Convention Hall 200
URL:https://conference-indico.kek.jp/event/91/contributions/1794/
END:VEVENT
BEGIN:VEVENT
SUMMARY:Dynamics of macromolecules: state of the art and future perspectiv
 es (invited)
DTSTART;VALUE=DATE-TIME:20190925T054500Z
DTEND;VALUE=DATE-TIME:20190925T061000Z
DTSTAMP;VALUE=DATE-TIME:20210728T061432Z
UID:indico-contribution-826-27@conference-indico.kek.jp
DESCRIPTION:Speakers: Richter\, Dieter (Jülich Center for Neutron Science
 )\nhttps://conference-indico.kek.jp/event/91/contributions/1795/
LOCATION: Convention Hall 200
URL:https://conference-indico.kek.jp/event/91/contributions/1795/
END:VEVENT
END:VCALENDAR
