BEGIN:VCALENDAR
VERSION:2.0
PRODID:-//CERN//INDICO//EN
BEGIN:VEVENT
SUMMARY:Neutrino Experiments at J-PARC [invited]
DTSTART;VALUE=DATE-TIME:20190925T014000Z
DTEND;VALUE=DATE-TIME:20190925T021500Z
DTSTAMP;VALUE=DATE-TIME:20210728T060119Z
UID:indico-contribution-819-96@conference-indico.kek.jp
DESCRIPTION:Speakers: Kuze\, Masahiro (Tokyo Institute of Technology)\nhtt
 ps://conference-indico.kek.jp/event/91/contributions/1807/
LOCATION: Convention Hall 200
URL:https://conference-indico.kek.jp/event/91/contributions/1807/
END:VEVENT
BEGIN:VEVENT
SUMMARY:Strangeness and Hadron Physics at J-PARC [invited]
DTSTART;VALUE=DATE-TIME:20190925T025000Z
DTEND;VALUE=DATE-TIME:20190925T032500Z
DTSTAMP;VALUE=DATE-TIME:20210728T060119Z
UID:indico-contribution-819-98@conference-indico.kek.jp
DESCRIPTION:Speakers: Oka\, Makoto (JAEA)\nhttps://conference-indico.kek.j
 p/event/91/contributions/1898/
LOCATION: Convention Hall 200
URL:https://conference-indico.kek.jp/event/91/contributions/1898/
END:VEVENT
BEGIN:VEVENT
SUMMARY:Theoretical overview of Lepton Flavor Violation [invited]
DTSTART;VALUE=DATE-TIME:20190925T021500Z
DTEND;VALUE=DATE-TIME:20190925T025000Z
DTSTAMP;VALUE=DATE-TIME:20210728T060119Z
UID:indico-contribution-819-97@conference-indico.kek.jp
DESCRIPTION:Speakers: Sato\, Joe (Saitama University)\nhttps://conference-
 indico.kek.jp/event/91/contributions/1907/
LOCATION: Convention Hall 200
URL:https://conference-indico.kek.jp/event/91/contributions/1907/
END:VEVENT
END:VCALENDAR
