BEGIN:VCALENDAR
VERSION:2.0
PRODID:-//CERN//INDICO//EN
BEGIN:VEVENT
SUMMARY:Status of the ESSnuSB Design Study (invited)
DTSTART;VALUE=DATE-TIME:20190926T021500Z
DTEND;VALUE=DATE-TIME:20190926T025000Z
DTSTAMP;VALUE=DATE-TIME:20210729T103905Z
UID:indico-contribution-838-155@conference-indico.kek.jp
DESCRIPTION:Speakers: Ekelof\, Tord (Uppsala University)\nhttps://conferen
 ce-indico.kek.jp/event/91/contributions/1925/
LOCATION: Convention Hall 200
URL:https://conference-indico.kek.jp/event/91/contributions/1925/
END:VEVENT
BEGIN:VEVENT
SUMMARY:Recent slow extraction beam loss reduction improvements at the CER
 N SPS (invited)
DTSTART;VALUE=DATE-TIME:20190926T014000Z
DTEND;VALUE=DATE-TIME:20190926T021500Z
DTSTAMP;VALUE=DATE-TIME:20210729T103905Z
UID:indico-contribution-838-154@conference-indico.kek.jp
DESCRIPTION:Speakers: Fraser\, Matthew Alexander (CERN)\nhttps://conferenc
 e-indico.kek.jp/event/91/contributions/1926/
LOCATION: Convention Hall 200
URL:https://conference-indico.kek.jp/event/91/contributions/1926/
END:VEVENT
BEGIN:VEVENT
SUMMARY:Highly intense muon beam and novel high-brightness muon beam devel
 opments at PSI (invited)
DTSTART;VALUE=DATE-TIME:20190926T025000Z
DTEND;VALUE=DATE-TIME:20190926T032500Z
DTSTAMP;VALUE=DATE-TIME:20210729T103905Z
UID:indico-contribution-838-156@conference-indico.kek.jp
DESCRIPTION:Speakers: Papa\, Angela (Paul Scherrer Institut)\nhttps://conf
 erence-indico.kek.jp/event/91/contributions/1928/
LOCATION: Convention Hall 200
URL:https://conference-indico.kek.jp/event/91/contributions/1928/
END:VEVENT
END:VCALENDAR
