BEGIN:VCALENDAR
VERSION:2.0
PRODID:-//CERN//INDICO//EN
BEGIN:VEVENT
SUMMARY:Beam Commissioning Status and Future Plans of LIPAc (invited)
DTSTART;VALUE=DATE-TIME:20190925T050000Z
DTEND;VALUE=DATE-TIME:20190925T053000Z
DTSTAMP;VALUE=DATE-TIME:20210728T060729Z
UID:indico-contribution-830-137@conference-indico.kek.jp
DESCRIPTION:Speakers: Sakamoto\, Keishi (Rokkashi Fusion Institute\, QST)\
 nhttps://conference-indico.kek.jp/event/91/contributions/1785/
LOCATION: Room 405
URL:https://conference-indico.kek.jp/event/91/contributions/1785/
END:VEVENT
BEGIN:VEVENT
SUMMARY:Beam Commissioning Status and Future Plans of FRIB (invited)
DTSTART;VALUE=DATE-TIME:20190925T043000Z
DTEND;VALUE=DATE-TIME:20190925T050000Z
DTSTAMP;VALUE=DATE-TIME:20210728T060729Z
UID:indico-contribution-830-136@conference-indico.kek.jp
DESCRIPTION:Speakers: Ikegami\, Masanori (FRIB/MSU)\nhttps://conference-in
 dico.kek.jp/event/91/contributions/1786/
LOCATION: Room 405
URL:https://conference-indico.kek.jp/event/91/contributions/1786/
END:VEVENT
BEGIN:VEVENT
SUMMARY:Status and Plans of the ESS Neutron Source (invited)
DTSTART;VALUE=DATE-TIME:20190925T053000Z
DTEND;VALUE=DATE-TIME:20190925T060000Z
DTSTAMP;VALUE=DATE-TIME:20210728T060729Z
UID:indico-contribution-830-138@conference-indico.kek.jp
DESCRIPTION:Speakers: Garoby\, Roland (European Spallation Source ERIC)\nh
 ttps://conference-indico.kek.jp/event/91/contributions/1790/
LOCATION: Room 405
URL:https://conference-indico.kek.jp/event/91/contributions/1790/
END:VEVENT
END:VCALENDAR
