BEGIN:VCALENDAR
VERSION:2.0
PRODID:-//CERN//INDICO//EN
BEGIN:VEVENT
SUMMARY:Development of Continuous Flow Direct Deuterium Labeling Methods (
 invited)
DTSTART;VALUE=DATE-TIME:20190926T014000Z
DTEND;VALUE=DATE-TIME:20190926T021000Z
DTSTAMP;VALUE=DATE-TIME:20210729T104144Z
UID:indico-contribution-843-60@conference-indico.kek.jp
DESCRIPTION:Speakers: Sajiki\, Hironao (Gifu Pharmaceutical University)\nh
 ttps://conference-indico.kek.jp/event/91/contributions/1873/
LOCATION: Room 406
URL:https://conference-indico.kek.jp/event/91/contributions/1873/
END:VEVENT
BEGIN:VEVENT
SUMMARY:Old and New Methods in Deuteration Chemistry: Chemo-enzymatic Synt
 hesis at the European Spallation Source (invited)
DTSTART;VALUE=DATE-TIME:20190926T021000Z
DTEND;VALUE=DATE-TIME:20190926T024000Z
DTSTAMP;VALUE=DATE-TIME:20210729T104144Z
UID:indico-contribution-843-61@conference-indico.kek.jp
DESCRIPTION:Speakers: Leung\, Anna (ESS-ERIC)\nhttps://conference-indico.k
 ek.jp/event/91/contributions/1874/
LOCATION: Room 406
URL:https://conference-indico.kek.jp/event/91/contributions/1874/
END:VEVENT
BEGIN:VEVENT
SUMMARY:Deuteration for Neutron Scattering (invited)
DTSTART;VALUE=DATE-TIME:20190926T024000Z
DTEND;VALUE=DATE-TIME:20190926T031000Z
DTSTAMP;VALUE=DATE-TIME:20210729T104144Z
UID:indico-contribution-843-62@conference-indico.kek.jp
DESCRIPTION:Speakers: Li\, Peixun (ISIS Neutron and Muon Source\, Rutherfo
 rd Appleton Laboratory)\nhttps://conference-indico.kek.jp/event/91/contrib
 utions/1875/
LOCATION: Room 406
URL:https://conference-indico.kek.jp/event/91/contributions/1875/
END:VEVENT
BEGIN:VEVENT
SUMMARY:Structural characterization of the circadian clock protein complex
 es composed of KaiA\, KaiB and KaiC by integrative structural approaches (
 invited)
DTSTART;VALUE=DATE-TIME:20190926T031000Z
DTEND;VALUE=DATE-TIME:20190926T034000Z
DTSTAMP;VALUE=DATE-TIME:20210729T104144Z
UID:indico-contribution-843-63@conference-indico.kek.jp
DESCRIPTION:Speakers: Yagi\, Hirokazu (Nagoya City University)\nhttps://co
 nference-indico.kek.jp/event/91/contributions/1876/
LOCATION: Room 406
URL:https://conference-indico.kek.jp/event/91/contributions/1876/
END:VEVENT
END:VCALENDAR
