BEGIN:VCALENDAR
VERSION:2.0
PRODID:-//CERN//INDICO//EN
BEGIN:VEVENT
SUMMARY:Arrival\, Check-in and Registration
DTSTART;VALUE=DATE-TIME:20210924T040000Z
DTEND;VALUE=DATE-TIME:20210924T100000Z
DTSTAMP;VALUE=DATE-TIME:20210614T141747Z
UID:indico-event-870@conference-indico.kek.jp
DESCRIPTION:https://conference-indico.kek.jp/event/97/sessions/743/
LOCATION:
URL:https://conference-indico.kek.jp/event/97/sessions/743/
END:VEVENT
END:VCALENDAR
