BEGIN:VCALENDAR
VERSION:2.0
PRODID:-//CERN//INDICO//EN
BEGIN:VEVENT
SUMMARY:Particle physics experiment
DTSTART;VALUE=DATE-TIME:20210925T002500Z
DTEND;VALUE=DATE-TIME:20210925T015000Z
DTSTAMP;VALUE=DATE-TIME:20210614T142053Z
UID:indico-event-872@conference-indico.kek.jp
DESCRIPTION:https://conference-indico.kek.jp/event/97/sessions/745/
LOCATION:
URL:https://conference-indico.kek.jp/event/97/sessions/745/
END:VEVENT
BEGIN:VEVENT
SUMMARY:Particle physics experiment
DTSTART;VALUE=DATE-TIME:20210926T000000Z
DTEND;VALUE=DATE-TIME:20210926T013000Z
DTSTAMP;VALUE=DATE-TIME:20210614T142053Z
UID:indico-event-877@conference-indico.kek.jp
DESCRIPTION:https://conference-indico.kek.jp/event/97/sessions/745/
LOCATION:
URL:https://conference-indico.kek.jp/event/97/sessions/745/
END:VEVENT
BEGIN:VEVENT
SUMMARY:Particle physics experiment
DTSTART;VALUE=DATE-TIME:20210926T015000Z
DTEND;VALUE=DATE-TIME:20210926T032000Z
DTSTAMP;VALUE=DATE-TIME:20210614T142053Z
UID:indico-event-878@conference-indico.kek.jp
DESCRIPTION:https://conference-indico.kek.jp/event/97/sessions/745/
LOCATION:
URL:https://conference-indico.kek.jp/event/97/sessions/745/
END:VEVENT
END:VCALENDAR
