BEGIN:VCALENDAR
VERSION:2.0
PRODID:-//CERN//INDICO//EN
BEGIN:VEVENT
SUMMARY:Muon g-2 theory initiative workshop
DTSTART;VALUE=DATE-TIME:20210627T230000Z
DTEND;VALUE=DATE-TIME:20210702T090000Z
DTSTAMP;VALUE=DATE-TIME:20210425T075559Z
UID:indico-event-99@conference-indico.kek.jp
DESCRIPTION:https://conference-indico.kek.jp/event/99/
LOCATION:
URL:https://conference-indico.kek.jp/event/99/
END:VEVENT
END:VCALENDAR
